BEGIN:VCALENDAR
VERSION:2.0
PRODID:-//Smart Simple Marketing - ECPv6.15.20//NONSGML v1.0//EN
CALSCALE:GREGORIAN
METHOD:PUBLISH
X-ORIGINAL-URL:https://smartsimplemarketing.com
X-WR-CALDESC:Events for Smart Simple Marketing
REFRESH-INTERVAL;VALUE=DURATION:PT1H
X-Robots-Tag:noindex
X-PUBLISHED-TTL:PT1H
BEGIN:VTIMEZONE
TZID:America/Los_Angeles
BEGIN:DAYLIGHT
TZOFFSETFROM:-0800
TZOFFSETTO:-0700
TZNAME:PDT
DTSTART:20160313T100000
END:DAYLIGHT
BEGIN:STANDARD
TZOFFSETFROM:-0700
TZOFFSETTO:-0800
TZNAME:PST
DTSTART:20161106T090000
END:STANDARD
BEGIN:DAYLIGHT
TZOFFSETFROM:-0800
TZOFFSETTO:-0700
TZNAME:PDT
DTSTART:20170312T100000
END:DAYLIGHT
BEGIN:STANDARD
TZOFFSETFROM:-0700
TZOFFSETTO:-0800
TZNAME:PST
DTSTART:20171105T090000
END:STANDARD
BEGIN:DAYLIGHT
TZOFFSETFROM:-0800
TZOFFSETTO:-0700
TZNAME:PDT
DTSTART:20180311T100000
END:DAYLIGHT
BEGIN:STANDARD
TZOFFSETFROM:-0700
TZOFFSETTO:-0800
TZNAME:PST
DTSTART:20181104T090000
END:STANDARD
END:VTIMEZONE
BEGIN:VEVENT
DTSTART;TZID=America/Los_Angeles:20170829T173000
DTEND;TZID=America/Los_Angeles:20170829T193000
DTSTAMP:20260420T104342
CREATED:20170914T160413Z
LAST-MODIFIED:20170914T160413Z
UID:7817-1504027800-1504035000@smartsimplemarketing.com
SUMMARY:Supplier Diversity In Tech - Quarterly Cocktail Reception
DESCRIPTION:BY INVITATION ONLY \nAre you a minority-owned and/or women-owned business interested in selling your products or services to tech companies and/or the federal government? \nIf so\, this is an event you don’t want to miss. \nJoin us on Tuesday\, August 29th for our Quarterly Cocktail Reception exclusively for MWBEs seeking to generate new leads and close more business in the tech industry. \nThe invitation-only event is hosted by Wil Hart and Sydni Craig-Hart\, Co-Founders of Smart Simple Marketing and winner of the WRMSDC 2015 Diverse Supplier of the Year Award (Class 1). \nThis dynamic duo will be putting their combined decades of experience to good use\, providing exclusive insight\, and facilitating valuable network connections that will help MWBEs globalize and grow their businesses. \nThis is an opportunity to meet prospective referral partners\, gain insights on the latest trends and receive expert advice on how to generate more revenue in your business. \nDon’t miss your chance to get the inside scoop on how to tap into profitable supplier diversity opportunities for your business.
URL:https://smartsimplemarketing.com/eventscalendar/supplier-diversity-tech-quarterly-cocktail-reception/
CATEGORIES:Hosting
END:VEVENT
BEGIN:VEVENT
DTSTART;TZID=America/Los_Angeles:20170530T130000
DTEND;TZID=America/Los_Angeles:20170530T143000
DTSTAMP:20260420T104342
CREATED:20170505T033343Z
LAST-MODIFIED:20170505T033355Z
UID:7592-1496149200-1496154600@smartsimplemarketing.com
SUMMARY:WRMSDC Secrets & Strategies Series: Prospecting For Opportunities
DESCRIPTION:This is part 2 of a 3 part series designed to help small\, diverse business owners: \n\nLearn how to create an Opportunities Schedule\nLearn where to find the right opportunities for your business\nBuild a strategy and learn what you can do right now to build your business\nLearn directly from industry professionals guest speakers\n\nSydni Craig-Hart will be presenting on how to create the exact opportunities you’re looking for to grow your business.
URL:https://smartsimplemarketing.com/eventscalendar/wrmsdc-secrets-strategies-series-prospecting-for-opportunities/
CATEGORIES:Speaking
END:VEVENT
BEGIN:VEVENT
DTSTART;TZID=America/Los_Angeles:20170524T080000
DTEND;TZID=America/Los_Angeles:20170524T170000
DTSTAMP:20260420T104342
CREATED:20170505T032818Z
LAST-MODIFIED:20170505T044641Z
UID:7590-1495612800-1495645200@smartsimplemarketing.com
SUMMARY:WIA Supplier Diversity Summit
DESCRIPTION:The Supplier Diversity Summit is a dedicated day-long event developed to connect a more diverse group of businesses to major wireless companies and to facilitate productive discussions focused on the role diversity plays in the wireless infrastructure industry. \nSydni Craig-Hart will lead a hands-on workshop for diverse suppliers on how to turn conversations into partnerships\, client engagements and lucrative contracts.
URL:https://smartsimplemarketing.com/eventscalendar/wia-supplier-diversity-summit/
CATEGORIES:Attending,Speaking
END:VEVENT
BEGIN:VEVENT
DTSTART;VALUE=DATE:20170509
DTEND;VALUE=DATE:20170511
DTSTAMP:20260420T104342
CREATED:20170505T031755Z
LAST-MODIFIED:20200908T104958Z
UID:7588-1494288000-1494460799@smartsimplemarketing.com
SUMMARY:CEB Marketing to Small Business Summit
DESCRIPTION:The 2017 Marketing to Small Business Summit will focus on the way small business owners interact with enterprise suppliers in the digital realm. \nSydni Craig-Hart will host an executive roundtable during the event and participate in a panel discussion highlighting insights marketing teams need to know when targeting small businesses.
URL:https://smartsimplemarketing.com/eventscalendar/ceb-marketing-to-small-business-summit/
LOCATION:Virtual
CATEGORIES:Attending,Speaking
END:VEVENT
END:VCALENDAR